BEGIN:VCALENDAR
VERSION:2.0
PRODID:-//squashters.com - ECPv6.15.13.1//NONSGML v1.0//EN
CALSCALE:GREGORIAN
METHOD:PUBLISH
X-WR-CALNAME:squashters.com
X-ORIGINAL-URL:https://squashters.com
X-WR-CALDESC:Events for squashters.com
REFRESH-INTERVAL;VALUE=DURATION:PT1H
X-Robots-Tag:noindex
X-PUBLISHED-TTL:PT1H
BEGIN:VTIMEZONE
TZID:UTC
BEGIN:STANDARD
TZOFFSETFROM:+0000
TZOFFSETTO:+0000
TZNAME:UTC
DTSTART:20240101T000000
END:STANDARD
END:VTIMEZONE
BEGIN:VEVENT
DTSTART;VALUE=DATE:20250114
DTEND;VALUE=DATE:20250120
DTSTAMP:20260421T001815
CREATED:20250114T092512Z
LAST-MODIFIED:20250114T094254Z
UID:1933-1736812800-1737331199@squashters.com
SUMMARY:$88\,750 Men's & Women's Squash in the Land 2025
DESCRIPTION:Men’s\n\nWomen’s
URL:https://squashters.com/tournaments/88750-mens-womens-squash-in-the-land-2025/
CATEGORIES:PSA World Tour
ATTACH;FMTTYPE=image/png:https://squashters.com/wp-content/uploads/2025/01/Professional_Squash_Association_Logo.png
END:VEVENT
END:VCALENDAR